BEGIN:VCALENDAR
VERSION:2.0
PRODID:-//Ozarks Regional YMCA - ECPv6.15.15//NONSGML v1.0//EN
CALSCALE:GREGORIAN
METHOD:PUBLISH
X-WR-CALNAME:Ozarks Regional YMCA
X-ORIGINAL-URL:https://www.orymca.org
X-WR-CALDESC:Events for Ozarks Regional YMCA
REFRESH-INTERVAL;VALUE=DURATION:PT1H
X-Robots-Tag:noindex
X-PUBLISHED-TTL:PT1H
BEGIN:VTIMEZONE
TZID:America/Chicago
BEGIN:DAYLIGHT
TZOFFSETFROM:-0600
TZOFFSETTO:-0500
TZNAME:CDT
DTSTART:20250309T080000
END:DAYLIGHT
BEGIN:STANDARD
TZOFFSETFROM:-0500
TZOFFSETTO:-0600
TZNAME:CST
DTSTART:20251102T070000
END:STANDARD
BEGIN:DAYLIGHT
TZOFFSETFROM:-0600
TZOFFSETTO:-0500
TZNAME:CDT
DTSTART:20260308T080000
END:DAYLIGHT
BEGIN:STANDARD
TZOFFSETFROM:-0500
TZOFFSETTO:-0600
TZNAME:CST
DTSTART:20261101T070000
END:STANDARD
BEGIN:DAYLIGHT
TZOFFSETFROM:-0600
TZOFFSETTO:-0500
TZNAME:CDT
DTSTART:20270314T080000
END:DAYLIGHT
BEGIN:STANDARD
TZOFFSETFROM:-0500
TZOFFSETTO:-0600
TZNAME:CST
DTSTART:20271107T070000
END:STANDARD
END:VTIMEZONE
BEGIN:VEVENT
DTSTART;TZID=America/Chicago:20261218T170000
DTEND;TZID=America/Chicago:20261218T200000
DTSTAMP:20260424T101432
CREATED:20260313T182153Z
LAST-MODIFIED:20260313T200233Z
UID:10000105-1797613200-1797624000@www.orymca.org
SUMMARY:Kids Night Out
DESCRIPTION:  \nShawna Bradley\nsbradley@orymca.org
URL:https://www.orymca.org/event/kids-night-out/
LOCATION:Lebanon YMCA
CATEGORIES:Kids Night Out
ATTACH;FMTTYPE=image/png:https://www.orymca.org/wp-content/uploads/2023/04/YMCA-Logo-PURPLE-01.png
END:VEVENT
END:VCALENDAR