BEGIN:VCALENDAR
VERSION:2.0
PRODID:-//Ozarks Regional YMCA - ECPv6.15.15//NONSGML v1.0//EN
CALSCALE:GREGORIAN
METHOD:PUBLISH
X-WR-CALNAME:Ozarks Regional YMCA
X-ORIGINAL-URL:https://www.orymca.org
X-WR-CALDESC:Events for Ozarks Regional YMCA
REFRESH-INTERVAL;VALUE=DURATION:PT1H
X-Robots-Tag:noindex
X-PUBLISHED-TTL:PT1H
BEGIN:VTIMEZONE
TZID:America/Chicago
BEGIN:DAYLIGHT
TZOFFSETFROM:-0600
TZOFFSETTO:-0500
TZNAME:CDT
DTSTART:20250309T080000
END:DAYLIGHT
BEGIN:STANDARD
TZOFFSETFROM:-0500
TZOFFSETTO:-0600
TZNAME:CST
DTSTART:20251102T070000
END:STANDARD
BEGIN:DAYLIGHT
TZOFFSETFROM:-0600
TZOFFSETTO:-0500
TZNAME:CDT
DTSTART:20260308T080000
END:DAYLIGHT
BEGIN:STANDARD
TZOFFSETFROM:-0500
TZOFFSETTO:-0600
TZNAME:CST
DTSTART:20261101T070000
END:STANDARD
BEGIN:DAYLIGHT
TZOFFSETFROM:-0600
TZOFFSETTO:-0500
TZNAME:CDT
DTSTART:20270314T080000
END:DAYLIGHT
BEGIN:STANDARD
TZOFFSETFROM:-0500
TZOFFSETTO:-0600
TZNAME:CST
DTSTART:20271107T070000
END:STANDARD
END:VTIMEZONE
BEGIN:VEVENT
DTSTART;TZID=America/Chicago:20260806T123000
DTEND;TZID=America/Chicago:20260806T140000
DTSTAMP:20260424T031134
CREATED:20260313T182200Z
LAST-MODIFIED:20260313T182829Z
UID:10000077-1786019400-1786024800@www.orymca.org
SUMMARY:August Lunch & Learn
DESCRIPTION:  \nLaToya Laddimore\nlladdimore@orymca.org
URL:https://www.orymca.org/event/august-lunch-learn/
LOCATION:Pat Jones YMCA\, 1901 E Republic Rd\, Springfield\, Missouri\, 65804
CATEGORIES:Lunch & Learn
ATTACH;FMTTYPE=image/png:https://www.orymca.org/wp-content/uploads/2023/07/Pat-Jones-YMCA-Sprint-Triathlon-2023-YMCA-Logo.png
END:VEVENT
BEGIN:VEVENT
DTSTART;TZID=America/Chicago:20260814T180000
DTEND;TZID=America/Chicago:20260814T204500
DTSTAMP:20260424T031134
CREATED:20260313T182200Z
LAST-MODIFIED:20260313T182832Z
UID:10000080-1786730400-1786740300@www.orymca.org
SUMMARY:August  Kid's Night Out
DESCRIPTION:
URL:https://www.orymca.org/event/august-kids-night-out/
LOCATION:Pat Jones YMCA\, 1901 E Republic Rd\, Springfield\, Missouri\, 65804
CATEGORIES:Kids Night Out
ATTACH;FMTTYPE=image/png:https://www.orymca.org/wp-content/uploads/2023/07/Pat-Jones-YMCA-Sprint-Triathlon-2023-YMCA-Logo.png
END:VEVENT
BEGIN:VEVENT
DTSTART;TZID=America/Chicago:20260815T080000
DTEND;TZID=America/Chicago:20260815T140000
DTSTAMP:20260424T031134
CREATED:20260313T182200Z
LAST-MODIFIED:20260313T182831Z
UID:10000079-1786780800-1786802400@www.orymca.org
SUMMARY:Unique Treasures & Rides
DESCRIPTION:
URL:https://www.orymca.org/event/unique-treasures-rides/
LOCATION:Pat Jones YMCA\, 1901 E Republic Rd\, Springfield\, Missouri\, 65804
CATEGORIES:Car/Craft Show
ATTACH;FMTTYPE=image/png:https://www.orymca.org/wp-content/uploads/2023/07/Pat-Jones-YMCA-Sprint-Triathlon-2023-YMCA-Logo.png
END:VEVENT
BEGIN:VEVENT
DTSTART;TZID=America/Chicago:20260822T070000
DTEND;TZID=America/Chicago:20260822T110000
DTSTAMP:20260424T031134
CREATED:20260313T182159Z
LAST-MODIFIED:20260313T182835Z
UID:10000081-1787382000-1787396400@www.orymca.org
SUMMARY:Tri at the Y
DESCRIPTION:  \nCrystal Manning
URL:https://www.orymca.org/event/tri-at-the-y/
LOCATION:Pat Jones YMCA\, 1901 E Republic Rd\, Springfield\, Missouri\, 65804
CATEGORIES:Wellness Event
ATTACH;FMTTYPE=image/png:https://www.orymca.org/wp-content/uploads/2023/07/Pat-Jones-YMCA-Sprint-Triathlon-2023-YMCA-Logo.png
END:VEVENT
BEGIN:VEVENT
DTSTART;TZID=America/Chicago:20260826T170000
DTEND;TZID=America/Chicago:20260826T190000
DTSTAMP:20260424T031134
CREATED:20260313T182159Z
LAST-MODIFIED:20260313T182835Z
UID:10000082-1787763600-1787770800@www.orymca.org
SUMMARY:Back to School Bash
DESCRIPTION:  \nLiz Sturgell\nesturgell@orymca.org
URL:https://www.orymca.org/event/back-to-school-bash/
LOCATION:Monett YMCA
CATEGORIES:Community Event
ATTACH;FMTTYPE=image/png:https://www.orymca.org/wp-content/uploads/2023/04/YMCA-Logo-PURPLE-01.png
END:VEVENT
BEGIN:VEVENT
DTSTART;TZID=America/Chicago:20260826T170000
DTEND;TZID=America/Chicago:20260826T200000
DTSTAMP:20260424T031134
CREATED:20260313T182159Z
LAST-MODIFIED:20260313T182839Z
UID:10000083-1787763600-1787774400@www.orymca.org
SUMMARY:Back to School
DESCRIPTION:  \nliz Sturgell\nesturgell@orymca.org
URL:https://www.orymca.org/event/back-to-school/
LOCATION:Cassville YMCA
ATTACH;FMTTYPE=image/png:https://www.orymca.org/wp-content/uploads/2023/04/YMCA-Logo-PURPLE-01.png
END:VEVENT
END:VCALENDAR