BEGIN:VCALENDAR
VERSION:2.0
PRODID:-//Ozarks Regional YMCA - ECPv6.15.15//NONSGML v1.0//EN
CALSCALE:GREGORIAN
METHOD:PUBLISH
X-ORIGINAL-URL:https://www.orymca.org
X-WR-CALDESC:Events for Ozarks Regional YMCA
REFRESH-INTERVAL;VALUE=DURATION:PT1H
X-Robots-Tag:noindex
X-PUBLISHED-TTL:PT1H
BEGIN:VTIMEZONE
TZID:America/Chicago
BEGIN:DAYLIGHT
TZOFFSETFROM:-0600
TZOFFSETTO:-0500
TZNAME:CDT
DTSTART:20250309T080000
END:DAYLIGHT
BEGIN:STANDARD
TZOFFSETFROM:-0500
TZOFFSETTO:-0600
TZNAME:CST
DTSTART:20251102T070000
END:STANDARD
BEGIN:DAYLIGHT
TZOFFSETFROM:-0600
TZOFFSETTO:-0500
TZNAME:CDT
DTSTART:20260308T080000
END:DAYLIGHT
BEGIN:STANDARD
TZOFFSETFROM:-0500
TZOFFSETTO:-0600
TZNAME:CST
DTSTART:20261101T070000
END:STANDARD
BEGIN:DAYLIGHT
TZOFFSETFROM:-0600
TZOFFSETTO:-0500
TZNAME:CDT
DTSTART:20270314T080000
END:DAYLIGHT
BEGIN:STANDARD
TZOFFSETFROM:-0500
TZOFFSETTO:-0600
TZNAME:CST
DTSTART:20271107T070000
END:STANDARD
END:VTIMEZONE
BEGIN:VEVENT
DTSTART;TZID=America/Chicago:20260903T123000
DTEND;TZID=America/Chicago:20260903T140000
DTSTAMP:20260424T044439
CREATED:20260313T182159Z
LAST-MODIFIED:20260313T182916Z
UID:10000084-1788438600-1788444000@www.orymca.org
SUMMARY:September Lunch & Learn
DESCRIPTION:  \nLaToya Laddimore\nlladdimore@orymca.org
URL:https://www.orymca.org/event/september-lunch-learn/
LOCATION:Pat Jones YMCA\, 1901 E Republic Rd\, Springfield\, Missouri\, 65804
CATEGORIES:Lunch & Learn
ATTACH;FMTTYPE=image/png:https://www.orymca.org/wp-content/uploads/2023/07/Pat-Jones-YMCA-Sprint-Triathlon-2023-YMCA-Logo.png
END:VEVENT
BEGIN:VEVENT
DTSTART;TZID=America/Chicago:20260911T180000
DTEND;TZID=America/Chicago:20260911T204500
DTSTAMP:20260424T044439
CREATED:20260313T182158Z
LAST-MODIFIED:20260313T182917Z
UID:10000085-1789149600-1789159500@www.orymca.org
SUMMARY:September Kid's Night Out
DESCRIPTION:
URL:https://www.orymca.org/event/september-kids-night-out/
LOCATION:Pat Jones YMCA\, 1901 E Republic Rd\, Springfield\, Missouri\, 65804
CATEGORIES:Kids Night Out
ATTACH;FMTTYPE=image/png:https://www.orymca.org/wp-content/uploads/2023/07/Pat-Jones-YMCA-Sprint-Triathlon-2023-YMCA-Logo.png
END:VEVENT
BEGIN:VEVENT
DTSTART;TZID=America/Chicago:20260917T120000
DTEND;TZID=America/Chicago:20260917T150000
DTSTAMP:20260424T044439
CREATED:20260313T182158Z
LAST-MODIFIED:20260313T182919Z
UID:10000086-1789646400-1789657200@www.orymca.org
SUMMARY:Senior Health Fair
DESCRIPTION:  \nHollie Hilburn\nhhilburn@orymca.org
URL:https://www.orymca.org/event/senior-health-fair-2/
LOCATION:Dallas County YMCA
CATEGORIES:Community Event
ATTACH;FMTTYPE=image/png:https://www.orymca.org/wp-content/uploads/2023/04/YMCA-Logo-PURPLE-01.png
END:VEVENT
BEGIN:VEVENT
DTSTART;TZID=America/Chicago:20260918T113000
DTEND;TZID=America/Chicago:20260918T163000
DTSTAMP:20260424T044439
CREATED:20260313T182158Z
LAST-MODIFIED:20260313T182921Z
UID:10000087-1789731000-1789749000@www.orymca.org
SUMMARY:Corporate Challenge
DESCRIPTION:  \nDanielle Wise\ndwise@orymca.org
URL:https://www.orymca.org/event/corporate-challenge/
LOCATION:Missouri
CATEGORIES:Field Day Fundraiser
ATTACH;FMTTYPE=image/png:https://www.orymca.org/wp-content/uploads/2023/04/YMCA-Logo-PURPLE-01.png
END:VEVENT
BEGIN:VEVENT
DTSTART;TZID=America/Chicago:20260918T170000
DTEND;TZID=America/Chicago:20260918T200000
DTSTAMP:20260424T044439
CREATED:20260313T182157Z
LAST-MODIFIED:20260313T182924Z
UID:10000088-1789750800-1789761600@www.orymca.org
SUMMARY:Kids Night Out
DESCRIPTION:  \nShawna Bradley\nsbradley@orymca.org
URL:https://www.orymca.org/event/kids-night-out-2/
LOCATION:Lebanon YMCA
CATEGORIES:Kids Night Out
ATTACH;FMTTYPE=image/png:https://www.orymca.org/wp-content/uploads/2023/04/YMCA-Logo-PURPLE-01.png
END:VEVENT
END:VCALENDAR