BEGIN:VCALENDAR
VERSION:2.0
PRODID:-//Ozarks Regional YMCA - ECPv6.15.15//NONSGML v1.0//EN
CALSCALE:GREGORIAN
METHOD:PUBLISH
X-WR-CALNAME:Ozarks Regional YMCA
X-ORIGINAL-URL:https://www.orymca.org
X-WR-CALDESC:Events for Ozarks Regional YMCA
REFRESH-INTERVAL;VALUE=DURATION:PT1H
X-Robots-Tag:noindex
X-PUBLISHED-TTL:PT1H
BEGIN:VTIMEZONE
TZID:America/Chicago
BEGIN:DAYLIGHT
TZOFFSETFROM:-0600
TZOFFSETTO:-0500
TZNAME:CDT
DTSTART:20250309T080000
END:DAYLIGHT
BEGIN:STANDARD
TZOFFSETFROM:-0500
TZOFFSETTO:-0600
TZNAME:CST
DTSTART:20251102T070000
END:STANDARD
BEGIN:DAYLIGHT
TZOFFSETFROM:-0600
TZOFFSETTO:-0500
TZNAME:CDT
DTSTART:20260308T080000
END:DAYLIGHT
BEGIN:STANDARD
TZOFFSETFROM:-0500
TZOFFSETTO:-0600
TZNAME:CST
DTSTART:20261101T070000
END:STANDARD
BEGIN:DAYLIGHT
TZOFFSETFROM:-0600
TZOFFSETTO:-0500
TZNAME:CDT
DTSTART:20270314T080000
END:DAYLIGHT
BEGIN:STANDARD
TZOFFSETFROM:-0500
TZOFFSETTO:-0600
TZNAME:CST
DTSTART:20271107T070000
END:STANDARD
END:VTIMEZONE
BEGIN:VEVENT
DTSTART;TZID=America/Chicago:20261001T123000
DTEND;TZID=America/Chicago:20261001T140000
DTSTAMP:20260424T062009
CREATED:20260313T182157Z
LAST-MODIFIED:20260313T182925Z
UID:10000089-1790857800-1790863200@www.orymca.org
SUMMARY:October Lunch & Learn
DESCRIPTION:  \nLaToya Laddimore\nlladdimore@orymca.org
URL:https://www.orymca.org/event/october-lunch-learn/
LOCATION:Pat Jones YMCA\, 1901 E Republic Rd\, Springfield\, Missouri\, 65804
CATEGORIES:Lunch & Learn
ATTACH;FMTTYPE=image/png:https://www.orymca.org/wp-content/uploads/2023/07/Pat-Jones-YMCA-Sprint-Triathlon-2023-YMCA-Logo.png
END:VEVENT
BEGIN:VEVENT
DTSTART;TZID=America/Chicago:20261009T180000
DTEND;TZID=America/Chicago:20261009T204500
DTSTAMP:20260424T062009
CREATED:20260313T182157Z
LAST-MODIFIED:20260313T182928Z
UID:10000090-1791568800-1791578700@www.orymca.org
SUMMARY:October Kid's Night Out
DESCRIPTION:
URL:https://www.orymca.org/event/october-kids-night-out/
LOCATION:Pat Jones YMCA\, 1901 E Republic Rd\, Springfield\, Missouri\, 65804
CATEGORIES:Kids Night Out
ATTACH;FMTTYPE=image/png:https://www.orymca.org/wp-content/uploads/2023/07/Pat-Jones-YMCA-Sprint-Triathlon-2023-YMCA-Logo.png
END:VEVENT
BEGIN:VEVENT
DTSTART;TZID=America/Chicago:20261010T090000
DTEND;TZID=America/Chicago:20261010T130000
DTSTAMP:20260424T062009
CREATED:20260313T182157Z
LAST-MODIFIED:20260313T182930Z
UID:10000091-1791622800-1791637200@www.orymca.org
SUMMARY:Craft Fair
DESCRIPTION:  \nHollie Hilburn\nhhilburn@orymca.org
URL:https://www.orymca.org/event/craft-fair/
LOCATION:Dallas County YMCA
CATEGORIES:Community Event
ATTACH;FMTTYPE=image/png:https://www.orymca.org/wp-content/uploads/2023/04/YMCA-Logo-PURPLE-01.png
END:VEVENT
BEGIN:VEVENT
DTSTART;TZID=America/Chicago:20261024T080000
DTEND;TZID=America/Chicago:20261024T100000
DTSTAMP:20260424T062009
CREATED:20260313T182156Z
LAST-MODIFIED:20260313T183012Z
UID:10000094-1792828800-1792836000@www.orymca.org
SUMMARY:Boo Dash
DESCRIPTION:  \nLiz Sturgell\nesturgell@orymca.org
URL:https://www.orymca.org/event/boo-dash/
LOCATION:Cassville YMCA
ATTACH;FMTTYPE=image/png:https://www.orymca.org/wp-content/uploads/2023/04/YMCA-Logo-PURPLE-01.png
END:VEVENT
BEGIN:VEVENT
DTSTART;TZID=America/Chicago:20261024T140000
DTEND;TZID=America/Chicago:20261024T170000
DTSTAMP:20260424T062009
CREATED:20260313T182156Z
LAST-MODIFIED:20260313T182931Z
UID:10000092-1792850400-1792861200@www.orymca.org
SUMMARY:Pat Jones Boo Bash
DESCRIPTION:
URL:https://www.orymca.org/event/pat-jones-boo-bash/
LOCATION:Pat Jones YMCA\, 1901 E Republic Rd\, Springfield\, Missouri\, 65804
CATEGORIES:Boo Bash
ATTACH;FMTTYPE=image/png:https://www.orymca.org/wp-content/uploads/2023/07/Pat-Jones-YMCA-Sprint-Triathlon-2023-YMCA-Logo.png
END:VEVENT
BEGIN:VEVENT
DTSTART;TZID=America/Chicago:20261024T170000
DTEND;TZID=America/Chicago:20261024T190000
DTSTAMP:20260424T062009
CREATED:20260313T182156Z
LAST-MODIFIED:20260313T182933Z
UID:10000093-1792861200-1792868400@www.orymca.org
SUMMARY:Trunk or Treat
DESCRIPTION:  \nLiz Sturgell\nesturgell@orymca.org
URL:https://www.orymca.org/event/trunk-or-treat/
LOCATION:Monett YMCA
CATEGORIES:Community Event
ATTACH;FMTTYPE=image/png:https://www.orymca.org/wp-content/uploads/2023/04/YMCA-Logo-PURPLE-01.png
END:VEVENT
BEGIN:VEVENT
DTSTART;TZID=America/Chicago:20261030T170000
DTEND;TZID=America/Chicago:20261030T200000
DTSTAMP:20260424T062009
CREATED:20260313T182156Z
LAST-MODIFIED:20260313T183015Z
UID:10000095-1793379600-1793390400@www.orymca.org
SUMMARY:Monster Mash Halloween Bash
DESCRIPTION:  \nShawna Bradley\nsbradley@orymca.org
URL:https://www.orymca.org/event/monster-mash-halloween-bash/
LOCATION:Lebanon YMCA
CATEGORIES:Community Event
ATTACH;FMTTYPE=image/png:https://www.orymca.org/wp-content/uploads/2023/04/YMCA-Logo-PURPLE-01.png
END:VEVENT
END:VCALENDAR